Workbook
Name autre_étab_1: Part10!$L$142
Name autre_étab_1: Part11!$L$142
Name autre_étab_1: Part12!$L$142
Name autre_étab_1: Part13!$L$142
Name autre_étab_1: Part14!$L$142
Name autre_étab_1: Part15!$L$142
Name autre_étab_1: Part16!$L$142
Name autre_étab_1: Part17!$L$142
Name autre_étab_1: Part18!$L$142
Name autre_étab_1: Part19!$L$142
Name autre_étab_1: 'Part1-Coord'!$L$140
Name autre_étab_1: Part2!$L$142
Name autre_étab_1: Part20!$L$142
Name autre_étab_1: Part3!$L$142
Name autre_étab_1: Part4!$L$142
Name autre_étab_1: Part5!$L$142
Name autre_étab_1: Part6!$L$142
Name autre_étab_1: Part7!$L$142
Name autre_étab_1: Part8!$L$142
Name autre_étab_1: Part9!$L$142
Name autre_étab_2: Part10!$L$143
Name autre_étab_2: Part11!$L$143
Name autre_étab_2: Part12!$L$143
Name autre_étab_2: Part13!$L$143
Name autre_étab_2: Part14!$L$143
Name autre_étab_2: Part15!$L$143
Name autre_étab_2: Part16!$L$143
Name autre_étab_2: Part17!$L$143
Name autre_étab_2: Part18!$L$143
Name autre_étab_2: Part19!$L$143
Name autre_étab_2: 'Part1-Coord'!$L$141
Name autre_étab_2: Part2!$L$143
Name autre_étab_2: Part20!$L$143
Name autre_étab_2: Part3!$L$143
Name autre_étab_2: Part4!$L$143
Name autre_étab_2: Part5!$L$143
Name autre_étab_2: Part6!$L$143
Name autre_étab_2: Part7!$L$143
Name autre_étab_2: Part8!$L$143
Name autre_étab_2: Part9!$L$143
Name autre_étab_3: Part10!$L$144
Name autre_étab_3: Part11!$L$144
Name autre_étab_3: Part12!$L$144
Name autre_étab_3: Part13!$L$144
Name autre_étab_3: Part14!$L$144
Name autre_étab_3: Part15!$L$144
Name autre_étab_3: Part16!$L$144
Name autre_étab_3: Part17!$L$144
Name autre_étab_3: Part18!$L$144
Name autre_étab_3: Part19!$L$144
Name autre_étab_3: 'Part1-Coord'!$L$142
Name autre_étab_3: Part2!$L$144
Name autre_étab_3: Part20!$L$144
Name autre_étab_3: Part3!$L$144
Name autre_étab_3: Part4!$L$144
Name autre_étab_3: Part5!$L$144
Name autre_étab_3: Part6!$L$144
Name autre_étab_3: Part7!$L$144
Name autre_étab_3: Part8!$L$144
Name autre_étab_3: Part9!$L$144

Sheet Réglages
A1: Types de contrat personnels | C1: Civilité | E1: Type étab coord | F1: Eligible | G1: frais env | H1: Décharges | I1: taux nominal | J1: taux d’aide | K1: cout marginal | M1: Nom de l’appel
A2: CDI | C2: Madame | E2: EPSCP | F2: 1 | G2: 1 | H2: 1 | I2: 1 | J2: =IF(OR(Table_type_coord6[[#This Row],[taux nominal]]=1,Table_type_coord6[[#This Row],[taux nominal]]=0),Table_type_coord6[[#This Row],[taux nominal]],Table_type_coord6[[#This Row],[taux nominal]]+IF($C$9,$C$7,0)) -> 1 | K2: 1 | M2: PPR SpÉ « Sciences pour l'Éducation »
A3: CDI de projet/chantier | C3: Monsieur | E3: EPST | F3: 1 | G3: 1 | H3: 1 | I3: 1 | J3: =IF(OR(Table_type_coord6[[#This Row],[taux nominal]]=1,Table_type_coord6[[#This Row],[taux nominal]]=0),Table_type_coord6[[#This Row],[taux nominal]],Table_type_coord6[[#This Row],[taux nominal]]+IF($C$9,$C$7,0)) -> 1 | K3: 1
A4: CDD | E4: EPA | F4: 1 | G4: 1 | H4: 1 | I4: 1 | J4: =IF(OR(Table_type_coord6[[#This Row],[taux nominal]]=1,Table_type_coord6[[#This Row],[taux nominal]]=0),Table_type_coord6[[#This Row],[taux nominal]],Table_type_coord6[[#This Row],[taux nominal]]+IF($C$9,$C$7,0)) -> 1 | K4: 1 | M4: Année de l’appel
A5: CDD doctorant | E5: EPIC | F5: 1 | G5: 1 | H5: 1 | I5: 1 | J5: =IF(OR(Table_type_coord6[[#This Row],[taux nominal]]=1,Table_type_coord6[[#This Row],[taux nominal]]=0),Table_type_coord6[[#This Row],[taux nominal]],Table_type_coord6[[#This Row],[taux nominal]]+IF($C$9,$C$7,0)) -> 1 | K5: 1 | M5: 2025
A6: CDD post-doctoral | E6: Fondation de recherche | F6: 1 | G6: 0 | H6: 0 | I6: 1 | J6: =IF(OR(Table_type_coord6[[#This Row],[taux nominal]]=1,Table_type_coord6[[#This Row],[taux nominal]]=0),Table_type_coord6[[#This Row],[taux nominal]],Table_type_coord6[[#This Row],[taux nominal]]+IF($C$9,$C$7,0)) -> 1 | K6: 1
A7: Autre | E7: Association à but non lucratif avec activité de recherche | F7: 1 | G7: 0 | H7: 0 | I7: 1 | J7: =IF(OR(Table_type_coord6[[#This Row],[taux nominal]]=1,Table_type_coord6[[#This Row],[taux nominal]]=0),Table_type_coord6[[#This Row],[taux nominal]],Table_type_coord6[[#This Row],[taux nominal]]+IF($C$9,$C$7,0)) -> 1 | K7: 1
E8: Autre établissement public à but non lucratif | F8: 1 | G8: 1 | H8: 1 | I8: 1 | J8: =IF(OR(Table_type_coord6[[#This Row],[taux nominal]]=1,Table_type_coord6[[#This Row],[taux nominal]]=0),Table_type_coord6[[#This Row],[taux nominal]],Table_type_coord6[[#This Row],[taux nominal]]+IF($C$9,$C$7,0)) -> 1 | K8: 1 | M8: Base EOTP
E9: Autre établissement privé à but non lucratif | F9: 1 | G9: 0 | H9: 0 | I9: 1 | J9: =IF(OR(Table_type_coord6[[#This Row],[taux nominal]]=1,Table_type_coord6[[#This Row],[taux nominal]]=0),Table_type_coord6[[#This Row],[taux nominal]],Table_type_coord6[[#This Row],[taux nominal]]+IF($C$9,$C$7,0)) -> 1 | K9: 0
M11: Mail contact (in Notice)
M12: PPR-SPE@agencerecherche.fr
M15: taux frais généraux (%)
M16: 20
E17: Type étab partenaire | F17: Eligible | G17: frais env | H17: Décharges | I17: taux nominal | J17: taux d’aide | K17: cout marginal
E18: EPSCP | F18: 1 | G18: 1 | H18: 1 | I18: 1 | J18: =IF(OR(Table_type_part7[[#This Row],[taux nominal]]=1,Table_type_part7[[#This Row],[taux nominal]]=0),Table_type_part7[[#This Row],[taux nominal]],Table_type_part7[[#This Row],[taux nominal]]+IF($C$9,$C$7,0)) -> 1 | K18: 1 | M18: max RH fonctionnaires (%)
E19: EPST | F19: 1 | G19: 1 | H19: 1 | I19: 1 | J19: =IF(OR(Table_type_part7[[#This Row],[taux nominal]]=1,Table_type_part7[[#This Row],[taux nominal]]=0),Table_type_part7[[#This Row],[taux nominal]],Table_type_part7[[#This Row],[taux nominal]]+IF($C$9,$C$7,0)) -> 1 | K19: 1 | M19: 0
E20: EPA | F20: 1 | G20: 1 | H20: 1 | I20: 1 | J20: =IF(OR(Table_type_part7[[#This Row],[taux nominal]]=1,Table_type_part7[[#This Row],[taux nominal]]=0),Table_type_part7[[#This Row],[taux nominal]],Table_type_part7[[#This Row],[taux nominal]]+IF($C$9,$C$7,0)) -> 1 | K20: 1
E21: EPIC | F21: 1 | G21: 1 | H21: 1 | I21: 1 | J21: =IF(OR(Table_type_part7[[#This Row],[taux nominal]]=1,Table_type_part7[[#This Row],[taux nominal]]=0),Table_type_part7[[#This Row],[taux nominal]],Table_type_part7[[#This Row],[taux nominal]]+IF($C$9,$C$7,0)) -> 1 | K21: 1 | M21: Max décharge enseignement (k€)
E22: Fondation de recherche | F22: 1 | G22: 0 | H22: 0 | I22: 1 | J22: =IF(OR(Table_type_part7[[#This Row],[taux nominal]]=1,Table_type_part7[[#This Row],[taux nominal]]=0),Table_type_part7[[#This Row],[taux nominal]],Table_type_part7[[#This Row],[taux nominal]]+IF($C$9,$C$7,0)) -> 1 | K22: 1 | M22: 0
E23: Association à but non lucratif avec activité de recherche | F23: 1 | G23: 0 | H23: 0 | I23: 1 | J23: =IF(OR(Table_type_part7[[#This Row],[taux nominal]]=1,Table_type_part7[[#This Row],[taux nominal]]=0),Table_type_part7[[#This Row],[taux nominal]],Table_type_part7[[#This Row],[taux nominal]]+IF($C$9,$C$7,0)) -> 1 | K23: 1
E24: Petite entreprise | F24: 0 | G24: 0 | H24: 0 | I24: 0.45 | J24: 0 | K24: 0 | M24: max frais struc «personnel»
E25: Moyenne entreprise | F25: 0 | G25: 0 | H25: 0 | I25: 0.45 | J25: 0 | K25: 0 | M25: 68
E26: Grande entreprise | F26: 0 | G26: 0 | H26: 0 | I26: 0.3 | J26: 0 | K26: 0
E27: Autre établissement public à but non lucratif | F27: 1 | G27: 1 | H27: 1 | I27: 1 | J27: =IF(OR(Table_type_part7[[#This Row],[taux nominal]]=1,Table_type_part7[[#This Row],[taux nominal]]=0),Table_type_part7[[#This Row],[taux nominal]],Table_type_part7[[#This Row],[taux nominal]]+IF($C$9,$C$7,0)) -> 1 | K27: 1 | M27: max frais struc hors (pers, FI)
E28: Autre établissement privé à but non lucratif | F28: 1 | G28: 0 | H28: 0 | I28: 1 | J28: =IF(OR(Table_type_part7[[#This Row],[taux nominal]]=1,Table_type_part7[[#This Row],[taux nominal]]=0),Table_type_part7[[#This Row],[taux nominal]],Table_type_part7[[#This Row],[taux nominal]]+IF($C$9,$C$7,0)) -> 1 | K28: 0 | M28: 7
E29: Collectivités territoriales | F29: 0 | G29: 0 | H29: 0 | I29: 0 | J29: =IF(OR(Table_type_part7[[#This Row],[taux nominal]]=1,Table_type_part7[[#This Row],[taux nominal]]=0),Table_type_part7[[#This Row],[taux nominal]],Table_type_part7[[#This Row],[taux nominal]]+IF($C$9,$C$7,0)) -> 0 | K29: 0
M30: min demande projet (€)
E32: Facteur multiplicatif catégorie RGEC | F32: taux
E33: NA | F33: 1
M34: max demande projet (€)
M43: Commentaire buget (si nécessaire) :

Sheet Notice
C1: =Réglages!M2 -> PPR SpÉ « Sciences pour l'Éducation » | H1: =Réglages!M5 -> 2025
A5: Notice d'utilisation du "Document Administratif et Financier"
B6: Les bénéficiaires des aides sont des établissements d’enseignement supérieur (public ou privé à but non lucratif), des écoles, des organismes de recherche et des groupements d’établissements dotés de la personnalité morale, de droit français, y compris ceux implantés à l’étranger. Les établissements d’enseignement supérieur et recherche à but lucratif et les entreprises pourront avoir le statut d’Etablissement partenaire dans les projets mais ne bénéficieront pas de financement au titre de cette participation. Les aides sont versées par l’ANR à l’Etablissement coordinateur.
A7: RECOMMANDATIONS GENERALES
B8: Ce document est prévu pour recueillir les informations liées au projet, le remplissage des totaux se faisant automatiquement (cellules non colorées).
B9: ="Cependant, si vous avez besoin de modifier le document, merci de contacter l'ANR : "&Réglages!$M$12 -> Cependant, si vous avez besoin de modifier le document, merci de contacter l'ANR : PPR-SPE@agencerecherche.fr
B10: Seules les cellules sur fond gris des onglets "VoletGeneral", "Part1-Coord", "Part2", "Part3"… sont à renseigner. Les tableaux récapitulatifs du "Volet général" ainsi que toutes les cellules sur fond blanc sont remplis automatiquement à partir des données fournies dans les autres onglets.
B11: Tous les montants financiers sont en € et hors taxes (HT) majorés, le cas échéant, de la TVA non récupérable.
A12: 1 - Onglet "VoletGeneral"
B13: L'acronyme doit permettre d'identifier rapidement le projet, il est repris automatiquement sur toutes les pages du présent document. Les tableaux récapitulatifs reprennent les éléments financiers de l'ensemble des partenaires, ils sont remplis automatiquement.
A14: 2 - Onglets "Part1-Coord", "Part2", "Part3"…
B15: Chaque établissement et partenaire renseigne l'onglet qui lui correspond. Merci de régler le type de partenaire en premier lieu afin d’activer les bonnes cases de l’onglet.
B16: 2-1 Identification du partenaire
B17: Le nom complet de l'établissement et son sigle seront repris automatiquement dans certains tableaux récapitulatifs et devront être identiques à ceux saisis sur le site de dépôt (merci de respecter l'ordre de renseignement en ligne, sur le présent document et sur le document scientifique). L’établissement porteur doit être identifié comme le partenaire n°1 (Part1-Coord).
B18: 2-2 Demande financière
B19: Renseigner les tableaux par nature de demande. La justification de cette dernière sera à effectuer dans le document scientifique. Les calculs s'effectuent automatiquement : les cellules sur fond blanc comportant des formules sont verrouillées.
B20: Indiquer le montant total des dépenses dans la colonne "Coût total", et le cas échéant le nombre de personnes.mois, et les montants demandés au titre de l'aide dans la colonne "Aide demandée". Pour les dépenses de personnel, le coût moyen est calculé automatiquement. La différence entre le coût total et l'aide demandée constituera les apports du partenaire pour l'ensemble des natures de dépenses. Nous vous rappelons que les apports doivent être autres que des subventions France 2030/PIA.
B21: Pour les partenaires éligibles à l'aide, la colonne "Coût total" reprend l’ensemble des dépenses affectées au projet. Les montants demandés sont à inscrire dans la colonne "Assiette de l’aide" qui sera intégralement demandée (ie. taux d’aide à 100% de l’assiette de l’aide).
B22: Pour les partenaires à « cout complet » (en principe les entreprises et EPIC), la colonne « cout total » reprend l’ensemble des dépenses affectées au projet. La colonne « assiette de l’aide » comprend l’ensemble des dépenses éligibles que le partenaire souhaite déclarer. L’aide demandée est calculée par multiplication de l’assiette de l’aide par un taux d’aide demandé qui ne peut être supérieur au taux maximum prévu par la réglementation européenne. Ce taux maximum est automatiquement indiqué et varie selon le type de partenaire.
B23: Pour les partenaires à cout complets, les apports totaux sont donc constitués des dépenses n’entrant pas dans l’assiette de l’aide ainsi que du différentiel entre l’assiette de l’aide et l’aide demandée.
B24: Les entreprises partenaires doivent présenter des apports mais ne sont pas bénéficiaires de l'aide.
C25: 2-2-1 Equipement
B26: Les dépenses d’équipements (achat matériels et immatériels) en lien direct avec le projet sont éligibles.
B27: Il s'agit du coût total de ces matériels.
B28: Sont considérées comme dépenses d’équipement les achats matériels ou immatériels immobilisés dans la comptabilité de chacun des Partenaires du Projet. La classification "Dépenses d’équipement" est identique à la comptabilité de l’établissement. Ces dépenses peuvent concerner les coûts d’aménagement de surfaces nécessaires à l’installation d’équipements. Ces dépenses ne peuvent pas concerner les coûts de construction. Le seuil d’immobilisation étant à la discrétion de l’établissement, il devra être indiqué en entête de cette catégorie dans les relevés de dépenses.
B29: Les dépenses d’équipements doivent rester inférieures ou égales à 30 % du coût total entrant dans l’assiette de l’aide, sauf dérogation accordée par l’ANR sur demande motivée de l’Etablissement coordinateur.
B30: Les dépenses liées à l’installation des équipements (adaptation de l’environnement d’accueil, installation électrique, climatisation, renforcement du sol, modification des cloisons) sont éligibles. Les dépenses liées à la construction de bâtiment ne sont pas éligibles.
B31: Les montants sont à renseigner hors taxes (HT) augmentés éventuellement de la TVA non récupérable. En conséquence, les montants indiqués doivent prendre en compte la proportion x de TVA non récupérable de l'organisme [coût = coût HT * (1+ x *0.20)].
C32: 2-2-2 Personnel
B33: Renseigner le coût total (salaires bruts, primes diverses, et cotisations patronales, y compris la taxe sur les salaires), et le nombre total de personnes.mois (Nb. p.mois) par type de poste (une personne à temps plein pendant un an = 12 personnes.mois). Le coût moyen sur la totalité de la durée est calculé automatiquement. Renseigner ensuite le montant demandé à l'ANR dans la colonne "Aide demandée". La différence constituera les apports du partenaire.
B34: Les dépenses de personnel permanent, y compris fonctionnaire, et non permanent prises en compte dans l’assiette ne concernent que la quotité de travail de ces personnels qui est directement affectée au projet. La rémunération principale et les dépenses effectuées au titre des charges sociales afférentes et taxes sur les salaires, et des prestations sociales obligatoires et prestations de restauration collective sont exclues de l’assiette pour les personnels fonctionnaires. Les primes et heures complémentaires sont éligibles pour l’ensemble des personnels impliqués dans les projets. Les quotes-parts de personnels relevant de fonctions supports sont admises.
B35: Chaque établissement employeur du personnel fonctionnaire doit choisir : • Soit de remplir une fiche complète (un onglet de cet Excel) s’il demande de l’aide sur d’autres postes de dépense et fait des apports au projet. • Soit de remplir le tableau "Autres établissements déclarant des personnels fonctionnaires" à la fin des fiches complètes des établissements gestionnaires* des unités auxquelles sont rattachés ses personnels. L’établissement employeur ne peut alors faire ni apport (autre que du personnel fonctionnaire), ni autre dépense. Dans les deux cas, l’établissement sera pleinement partenaire du projet et devra notamment signer l'onglet et participer à l’accord de consortium, lorsqu'il est éxigé, comme défini dans le règlement financier. (* Gestionnaire s’entend ici au sens des délégations de gestion entre tutelles d’une UMR, et non au sens d’établissement gestionnaire comme défini dans le règlement financier)
C36: 2-2-3 Fonctionnement, prestation de service et facturation interne
B37: Les montants sont à renseigner hors taxes (HT) augmentés éventuellement de la TVA non récupérable. Les coûts d’infrastructures ou plateformes nécessaires au projet, sont établis sur une base proposée par l’établissement opérateur de la plateforme et qui tient compte du taux temporel d’utilisation des différentes composantes de la plateforme. Si le projet est financé, cette base doit être validée par l’ANR, auditée par un tiers – par exemple –les commissaires aux comptes de l’établissement et doit reposer sur une comptabilité analytique. Les couts ainsi établis sont transmis à l’ANR par l’établissement porteur. L’ANR peut réaliser ou faire réaliser un ou des audits complémentaires ; en conséquence, les montants indiqués doivent prendre en compte la proportion x de TVA non récupérable fonction de l'organisme [coût = coût HT * (1+ x *0.20)]. Les Etablissements partenaires peuvent faire exécuter des prestations par des tiers extérieurs au projet. Le coût de ces prestations figure de façon individualisée parmi les dépenses de l’opération. Les prestations relatives au fonctionnement doivent rester inférieures ou égales à 30 % du coût total entrant dans l’assiette de l’aide, sauf dérogation accordée par l’ANR sur demande motivée de l’Etablissement coordinateur.
C39: 2-2-4 Frais généraux
B40: ="Une partie des frais d’administration générale imputables au projet peut figurer parmi les dépenses éligibles. Ces frais ont un caractère forfaitaire et sont plafonnés à "&Réglages!M16&" % des dépenses éligibles réalisées dans la limite de l’aide accordée au projet, hors frais généraux." -> Une partie des frais d’administration générale imputables au projet peut figurer parmi les dépenses éligibles. Ces frais ont un caractère forfaitaire et sont plafonnés à 20 % des dépenses éligibles réalisées dans la limite de l’aide accordée au projet, hors frais généraux.
B41: Les partenaires à cout complet peuvent déclarer des frais de structure dans la limite de 68% des frais de personnels et de 7% du total hors personnel et facturation interne.
C42: 2-2-5 Frais d'environnement
B43: Cette partie concerne exclusivement les établissements publics financés sur la base du coût marginal.
B44: Pour le calcul du coût complet, il faut ajouter aux coûts salariaux totaux des personnels leurs frais d'environnement (ex coûts d'infrastructures). Les frais d'environnement sont égaux au produit de ces coûts salariaux totaux par le taux d'environnement propre à l'organisme. Les frais d'environnement sont calculés automatiquement. Ex : Pour un institut dont le taux d'environnement est à l'heure actuelle de 80 % : vous devez alors renseigner la valeur du taux d'environnement (ex: inscrire 80 pour un taux de 80 %) de l'organisme assurant la tutelle de gestion du partenaire pour le projet. Le taux étant propre à l'organisme, vous devez le consulter pour connaitre le taux applicable.
...

Sheet VoletGeneral
D1: =Réglages!M2 -> PPR SpÉ « Sciences pour l'Éducation »
G2: N° de dossier
D3: France 2030 - Agence Nationale de la Recherche Document administratif et financier | G3: Acronyme | I3: =IF(D9<>"",D9," ")
G4: Nombre de partenaires | I4: =COUNTA(B62:B81)-COUNTIF(B62:B81,"") -> 0
G5: =Réglages!M5 -> 2025
B7: Volet général
B8: Fiche d'identité du projet
B9: Acronyme du projet
B10: Titre du projet | C10: en francais
B11: Titre du projet | C11: en anglais
B12: Durée du projet (en mois)
B14: Responsable du projet
B16: Nom
B17: Prénom
B18: Courriel
B19: Téléphone
D20: Adresse postale professionnelle
B21: Bât, n° bureau
B22: Numéro de voie
B23: Type, nom de voie
B24: Code postal
B25: Ville
B26: Cedex
B27: Pays
B29: Nom complet de l'établissement coordinateur
H30: =" "
B31: Nom complet du partenaire
B32: Sigle du partenaire
B33: Type de partenaire
B34: Numéro SIRET
B36: Personne habilitée à engager juridiquement l'établissement coordinateur
B38: Genre
B39: Nom
B40: Prénom
B41: Qualité
B42: Courriel
B43: Téléphone
B45: Récapitulatif des demandes financières par destination
B47: Description | E47: Coût total | G47: Aide demandée | J47: Apport
B48: Equipement | E48: =P60 -> 0 | G48: =Z84 -> 0 | J48: =E48-G48 -> 0
...

Sheet Part1-Coord
A1: Identification de l'établissement coordinateur | K1: eligible à l’aide : | L1: =(SUMIF(Table_type_coord6[Type étab coord],D9,Table_type_coord6[Eligible]))>0 -> FALSE | M1: (à régler dans la page réglage)
F2: Acronyme | H2: =IF(VoletGeneral!D9<>"",VoletGeneral!D9,"") | J2: =IF((COUNTIF(I27:I41,"<0")+COUNTIF(I45:I58,"<0")+COUNTIF(I124:I135,"<0")+COUNTIF(I118:I121,"<0")+COUNTIF(I107:I116,"<0")+COUNTIF(I142:I148,"<0"))>0,"Attention, pour "&COUNTIF(I27:I41,"<0")+COUNTIF(I45:I58,"<0")+COUNTIF(I124:I135,"<0")+COUNTIF(I118:I121,"<0")+COUNTIF(I107:I116,"<0")+COUNTIF(I142:I148,"<0")&" ligne"&IF(COUNTIF(I27:I41,"<0")+COUNTIF(I45:I58,"<0")+COUNTIF(I124:I135,"<0")+COUNTIF(I118:I121,"<0")+COUNTIF(I107:I116,"<0")+COUNTIF(I142:I148,"<0")>1,"s","")&" la partie aidée est supérieure au coût total."&CHAR(10),"")&IF(COUNTIF(E27:E41,"<4000")>0,"Attention, pour "&COUNTIF(E27:E41,"<4000")&" ligne"&IF(COUNTIF(E27:E41,"<4000")>1,"s","")&" le coût unitaire de l'équipement est inférieur à 4000 € hors taxes.","")
F3: Partenaire | H3: Part1-Coord | K3: éligible au cout marginal : | L3: =(SUMIF(Table_type_coord6[Type étab coord],D9,Table_type_coord6[cout marginal]))>0 -> FALSE | M3: (à régler dans la page réglage)
C4: 20408 | D4: =C4&"-0" -> 20408-0 | K4: Prise en compte des couts | L4: =IF(L1,IF(L3,"Cout marginal", "Cout complet"),"Part. non finançable") -> Part. non finançable
B5: Nom complet de l'établissement coordinateur | K5: frais environnement possible : | L5: =(SUMIF(Table_type_coord6[Type étab coord],D9,Table_type_coord6[frais env]))>0 -> FALSE | M5: (à régler dans la page réglage)
K6: décharges possible : | L6: =(SUMIF(Table_type_coord6[Type étab coord],D9,Table_type_coord6[Décharges]))>0 -> FALSE | M6: (à régler dans la page réglage)
C7: Nom complet du partenaire | D7: =IF(VoletGeneral!D31="","",VoletGeneral!D31)
C8: Sigle du partenaire | D8: =IF(VoletGeneral!D32="","",VoletGeneral!D32)
C9: Type de partenaire | D9: =IF(VoletGeneral!D33="","",VoletGeneral!D33) | K9: taux d’aide lié à la struture du part : | L9: =SUMIF(Table_type_coord6[Type étab coord],D9,Table_type_coord6[taux d’aide]) -> 0 | M9: (à régler dans la page réglage)
C10: Numéro SIRET | D10: =IF(VoletGeneral!D34="","",VoletGeneral!D34) | K10: taux d’aide lié à la catégorie de recherche : | L10: =Tableau6[taux] -> 1 | M10: (à régler dans la page réglage) | N10: (Eligible)
K11: taux d’aide applicable : | L11: =L9*L10 -> 0
B12: Personne habilitée à engager juridiquement l'établissement coordinateur
K13: Régle de couleur des cases :
C14: Genre | D14: =IF(VoletGeneral!D38="","",VoletGeneral!D38) | K14: nom de la zone | L14: Booléen | M14: description
C15: Nom | D15: =IF(VoletGeneral!D39="","",VoletGeneral!D39) | K15: rouge _si_cout_complet | L15: =(AND(L1,NOT(L3))) -> FALSE | M15: éligible ET non(cout marg)
C16: Prénom | D16: =IF(VoletGeneral!D40="","",VoletGeneral!D40)
C17: Qualité | D17: =IF(VoletGeneral!D41="","",VoletGeneral!D41) | K17: rouge_si_cout_marginal | L17: =(OR(L3,NOT(L1))) -> TRUE | M17: cout marginal OU non eligible
C18: Courriel | D18: =IF(VoletGeneral!D42="","",VoletGeneral!D42)
C19: Téléphone | D19: =IF(VoletGeneral!D43="","",VoletGeneral!D43) | K19: rouge_si_inneligible | L19: =NOT(L1) -> TRUE
B21: =IF(L1, IF(L3, "Ce partenaire est finançable à coût marginal. Le taux d’aide est de 100%. Les frais généraux forfaitaires sont de "&Réglages!M16&"% maximum.", "Ce partenaire est finançable à coût complet."&" Le taux d’aide maximum dépend du type de structure, il est indiqué en bas de ce formulaire. L’aide demandée est automatiquement calculée"&" par multiplication de l’assiette totale de l’aide par le taux d’aide retenu. Les frais de structure, en deux catégories, sont à demander à la fin de ce formulaire."), "Merci de sélectionner un type de partenaire dans le volet général.") -> Merci de sélectionner un type de partenaire dans le volet général.
K22: Etab Fonctionnaire | L22: =IF(OR(L3,L6),"VRAI","FAUX") -> FAUX
B23: Demande financière ANR détaillée du projet
B24: Personnel | K24: Entreprise | L24: =(SUMIF(Réglages!E24:E26,D8,Table_type_part7[taux d’aide]))>0 -> FALSE
B25: Personnel avec demande de financement | E25: Coût moyen | F25: Nb. p.mois | G25: Coût total | H25: Aide demandée | I25: Apport
B26: Personnel de recherche - Fonctionnaires (voir Notice) | E26: =IF(AND(ISNUMBER(F26),ISNUMBER(G26)),G26/F26," ") | I26: =IF(OR(ISNUMBER(G26),ISNUMBER(H26)),ROUND(IF(ISNUMBER(G26),G26,0)-IF(ISNUMBER(H26),H26,0),2)," ")
B27: Personnel de recherche - Non fonctionnaires (CDI/CDD) | E27: =IF(AND(ISNUMBER(F27),ISNUMBER(G27)),G27/F27," ") | I27: =IF(OR(ISNUMBER(G27),ISNUMBER(H27)),ROUND(IF(ISNUMBER(G27),G27,0)-IF(ISNUMBER(H27),H27,0),2)," ")
B28: Doctorants | E28: =IF(AND(ISNUMBER(F28),ISNUMBER(G28)),G28/F28," ") | I28: =IF(OR(ISNUMBER(G28),ISNUMBER(H28)),ROUND(IF(ISNUMBER(G28),G28,0)-IF(ISNUMBER(H28),H28,0),2)," ")
B29: Post-doctorants | E29: =IF(AND(ISNUMBER(F29),ISNUMBER(G29)),G29/F29," ") | I29: =IF(OR(ISNUMBER(G29),ISNUMBER(H29)),ROUND(IF(ISNUMBER(G29),G29,0)-IF(ISNUMBER(H29),H29,0),2)," ")
B30: Autres (personnel support, stagiaires, vacations, etc.) | E30: =IF(AND(ISNUMBER(F30),ISNUMBER(G30)),G30/F30," ") | I30: =IF(OR(ISNUMBER(G30),ISNUMBER(H30)),ROUND(IF(ISNUMBER(G30),G30,0)-IF(ISNUMBER(H30),H30,0),2)," ")
B31: Primes | I31: =IF(OR(ISNUMBER(G31),ISNUMBER(H31)),ROUND(IF(ISNUMBER(G31),G31,0)-IF(ISNUMBER(H31),H31,0),2),"")
B32: Heures complémentaires | I32: =IF(OR(ISNUMBER(G32),ISNUMBER(H32)),ROUND(IF(ISNUMBER(G32),G32,0)-IF(ISNUMBER(H32),H32,0),2),"")
B33: Décharges d’enseignement | I33: =IF(OR(ISNUMBER(G33),ISNUMBER(H33)),ROUND(IF(ISNUMBER(G33),G33,0)-IF(ISNUMBER(H33),H33,0),2),"")
B34: Personnel sans demande de financement | E34: Coût moyen | F34: Nb. p.mois | G34: Coût total | H34: Aide demandée | I34: Apport
B35: Personnel de recherche - Fonctionnaires | D35: Enseignants-chercheurs et chercheurs | E35: =IF(AND(ISNUMBER(F35),ISNUMBER(G35)),G35/F35," ") | I35: =IF(OR(ISNUMBER(G35),ISNUMBER(H35)),ROUND(IF(ISNUMBER(G35),G35,0)-IF(ISNUMBER(H35),H35,0),2)," ")
D36: Ingénieurs et techniciens | E36: =IF(AND(ISNUMBER(F36),ISNUMBER(G36)),G36/F36," ") | I36: =IF(OR(ISNUMBER(G36),ISNUMBER(H36)),ROUND(IF(ISNUMBER(G36),G36,0)-IF(ISNUMBER(H36),H36,0),2)," ")
B37: Personnel de recherche - Non fonctionnaires (CDI/CDD) | E37: =IF(AND(ISNUMBER(F37),ISNUMBER(G37)),G37/F37," ") | I37: =IF(OR(ISNUMBER(G37),ISNUMBER(H37)),ROUND(IF(ISNUMBER(G37),G37,0)-IF(ISNUMBER(H37),H37,0),2)," ")
B38: Doctorants | E38: =IF(AND(ISNUMBER(F38),ISNUMBER(G38)),G38/F38," ") | I38: =IF(OR(ISNUMBER(G38),ISNUMBER(H38)),ROUND(IF(ISNUMBER(G38),G38,0)-IF(ISNUMBER(H38),H38,0),2)," ")
B39: Post-doctorants | E39: =IF(AND(ISNUMBER(F39),ISNUMBER(G39)),G39/F39," ") | I39: =IF(OR(ISNUMBER(G39),ISNUMBER(H39)),ROUND(IF(ISNUMBER(G39),G39,0)-IF(ISNUMBER(H39),H39,0),2)," ")
B40: Autres (personnel support, stagiaires, vacations, etc.) | E40: =IF(AND(ISNUMBER(F40),ISNUMBER(G40)),G40/F40," ") | I40: =IF(OR(ISNUMBER(G40),ISNUMBER(H40)),ROUND(IF(ISNUMBER(G40),G40,0)-IF(ISNUMBER(H40),H40,0),2)," ")
B42: Total personnel | F42: =SUM(F26:F30,F35:F40) -> 0 | G42: =SUM(G26:G33,G35:G40) -> 0 | H42: =SUM(H26:H33) -> 0 | I42: =SUM(I26:I33,I35:I41) -> 0
...

Sheet Part2
A1: Identification de l'établissement partenaire
F2: Acronyme | H2: =IF(VoletGeneral!D9<>"",VoletGeneral!D9,"")
F3: Partenaire | H3: Part2
C4: 20408 | D4: =C4&"-0" -> 20408-0
B5: Nom complet du partenaire
C7: Nom complet du partenaire | K7: eligible à l’aide : | L7: =(SUMIF(Table_type_part7[Type étab partenaire],D9,Table_type_part7[Eligible]))>0 -> FALSE | M7: (à régler dans la page réglage)
C8: Sigle du partenaire
C9: Type de partenaire | K9: éligible au cout marginal : | L9: =(SUMIF(Table_type_part7[Type étab partenaire],D9,Table_type_part7[cout marginal]))>0 -> FALSE | M9: (à régler dans la page réglage)
C10: Numéro SIRET | K10: Prise en compte des couts | L10: =IF(L7,IF(L9,"Cout marginal", "Cout complet"),"Part. non finançable") -> Part. non finançable | N10: (Eligible)
C11: =IF(L31,"Si l’établissement partenaire est une entreprise : dans la case Commentaires en bas de l'onglet, veuillez renseigner le(s) Work Package(s) qui est (sont) associé(s)"& "à la catégorie de recherche (Recherche fondamentale / Recherche industrielle / Développement expérimental) choisie en cellule D9","")
C12: =IF(L7, IF(L9, "Ce partenaire est finançable à coût marginal. Le taux d’aide est de 100%. Les frais généraux forfaitaires sont de "&Réglages!M16&"% maximum.", "Ce partenaire est finançable à coût complet."&" Le taux d’aide maximum dépend du type de structure, il est indiqué en bas de ce formulaire. L’aide demandée est automatiquement calculée"&" par multiplication de l’assiette totale de l’aide par le taux d’aide retenu. Les frais de structure, en deux catégories, sont à demander à la fin de ce formulaire."), "Ce partenaire n’est pas finançable : merci de sélectionner un type de partenaire ci-dessus. Si le type partenaire est déjà sélectionné, merci de remplir des apports.") -> Ce partenaire n’est pas finançable : merci de sélectionner un type de partenaire ci-dessus. Si le type partenaire est déjà sélectionné, merci de remplir des apports. | K12: frais environnement possible : | L12: =(SUMIF(Table_type_part7[Type étab partenaire],D9,Table_type_part7[frais env]))>0 -> FALSE | M12: (à régler dans la page réglage)
B13: Personne habilitée à engager juridiquement l'établissement partenaire | K13: décharges possible : | L13: =(SUMIF(Table_type_part7[Type étab partenaire],D9,Table_type_part7[Décharges]))>0 -> FALSE | M13: (à régler dans la page réglage)
C15: Genre
C16: Nom
C17: Prénom | K17: taux d’aide lié à la struture du part : | L17: =SUMIF(Table_type_part7[Type étab partenaire],D9,Table_type_part7[taux d’aide]) -> 0 | M17: (à régler dans la page réglage)
C18: Qualité | K18: taux d’aide lié à la catégorie de recherche : | L18: =Tableau6[taux] -> 1 | M18: (à régler dans la page réglage)
C19: Courriel | K19: taux d’aide applicable : | L19: =L17*L18 -> 0
C20: Téléphone
K21: Régle de couleur des cases :
B22: Correspondant du projet | K22: nom de la zone | L22: Booléen | M22: description
K23: rouge _si_cout_complet | L23: =(AND(L7,NOT(L9))) -> FALSE | M23: éligible ET non(cout marg)
B24: Nom
B25: Prénom | K25: rouge_si_cout_marginal | L25: =(OR(L9,NOT(L7))) -> TRUE | M25: cout marginal OU non eligible
B26: Courriel
B27: Téléphone | K27: rouge_si_inneligible | L27: =NOT(L7) -> TRUE
B29: Demande financière ANR du projet | K29: Etab Fonctionnaire | L29: =IF(OR(L9,L12),"VRAI","FAUX") -> FAUX
B30: Personnel
B31: Personnel avec demande de financement | E31: Coût moyen | F31: Nb. p.mois | G31: Coût total | H31: Aide demandée | I31: Apport | K31: Entreprise | L31: =(SUMIF(Réglages!E24:E26,D9,Table_type_part7[taux d’aide]))>0 -> FALSE
B32: Personnel de recherche - Fonctionnaires (voir Notice) | E32: =IF(AND(ISNUMBER(F32),ISNUMBER(G32)),G32/F32," ") | I32: =IF(OR(ISNUMBER(G32),ISNUMBER(H32)),ROUND(IF(ISNUMBER(G32),G32,0)-IF(ISNUMBER(H32),H32,0),2)," ")
B33: Personnel de recherche - Non fonctionnaires (CDI/CDD) | E33: =IF(AND(ISNUMBER(F33),ISNUMBER(G33)),G33/F33," ") | I33: =IF(OR(ISNUMBER(G33),ISNUMBER(H33)),ROUND(IF(ISNUMBER(G33),G33,0)-IF(ISNUMBER(H33),H33,0),2)," ")
B34: Doctorants | E34: =IF(AND(ISNUMBER(F34),ISNUMBER(G34)),G34/F34," ") | I34: =IF(OR(ISNUMBER(G34),ISNUMBER(H34)),ROUND(IF(ISNUMBER(G34),G34,0)-IF(ISNUMBER(H34),H34,0),2)," ")
B35: Post-doctorants | E35: =IF(AND(ISNUMBER(F35),ISNUMBER(G35)),G35/F35," ") | I35: =IF(OR(ISNUMBER(G35),ISNUMBER(H35)),ROUND(IF(ISNUMBER(G35),G35,0)-IF(ISNUMBER(H35),H35,0),2)," ")
B36: Autres (personnel support, stagiaires, vacations, etc.) | E36: =IF(AND(ISNUMBER(F36),ISNUMBER(G36)),G36/F36," ") | I36: =IF(OR(ISNUMBER(G36),ISNUMBER(H36)),ROUND(IF(ISNUMBER(G36),G36,0)-IF(ISNUMBER(H36),H36,0),2)," ")
B37: Primes | I37: =IF(OR(ISNUMBER(G37),ISNUMBER(H37)),ROUND(IF(ISNUMBER(G37),G37,0)-IF(ISNUMBER(H37),H37,0),2),"")
B38: Heures complémentaires | I38: =IF(OR(ISNUMBER(G38),ISNUMBER(H38)),ROUND(IF(ISNUMBER(G38),G38,0)-IF(ISNUMBER(H38),H38,0),2),"")
B39: Décharges d’enseignement | I39: =IF(OR(ISNUMBER(G39),ISNUMBER(H39)),ROUND(IF(ISNUMBER(G39),G39,0)-IF(ISNUMBER(H39),H39,0),2),"")
B40: Personnel sans demande de financement | E40: Coût moyen | F40: Nb. p.mois | G40: Coût total | H40: Aide demandée | I40: Apport
B41: Personnel de recherche - Fonctionnaires | D41: Enseignants-chercheurs et chercheurs | E41: =IF(AND(ISNUMBER(F41),ISNUMBER(G41)),G41/F41," ") | I41: =IF(OR(ISNUMBER(G41),ISNUMBER(H41)),ROUND(IF(ISNUMBER(G41),G41,0)-IF(ISNUMBER(H41),H41,0),2)," ")
D42: Ingénieurs et techniciens | E42: =IF(AND(ISNUMBER(F42),ISNUMBER(G42)),G42/F42," ") | I42: =IF(OR(ISNUMBER(G42),ISNUMBER(H42)),ROUND(IF(ISNUMBER(G42),G42,0)-IF(ISNUMBER(H42),H42,0),2)," ")
B43: Personnel de recherche - Non fonctionnaires (CDI/CDD) | E43: =IF(AND(ISNUMBER(F43),ISNUMBER(G43)),G43/F43," ") | I43: =IF(OR(ISNUMBER(G43),ISNUMBER(H43)),ROUND(IF(ISNUMBER(G43),G43,0)-IF(ISNUMBER(H43),H43,0),2)," ")
...

Sheet Part3
A1: Identification de l'établissement partenaire
F2: Acronyme | H2: =IF(VoletGeneral!D9<>"",VoletGeneral!D9,"")
F3: Partenaire | H3: Part3
C4: 20408 | D4: =C4&"-0" -> 20408-0
B5: Nom complet du partenaire
C7: Nom complet du partenaire | K7: eligible à l’aide : | L7: =(SUMIF(Table_type_part7[Type étab partenaire],D9,Table_type_part7[Eligible]))>0 -> FALSE | M7: (à régler dans la page réglage)
C8: Sigle du partenaire
C9: Type de partenaire | K9: éligible au cout marginal : | L9: =(SUMIF(Table_type_part7[Type étab partenaire],D9,Table_type_part7[cout marginal]))>0 -> FALSE | M9: (à régler dans la page réglage)
C10: Numéro SIRET | K10: Prise en compte des couts | L10: =IF(L7,IF(L9,"Cout marginal", "Cout complet"),"Part. non finançable") -> Part. non finançable | N10: (Eligible)
C11: =IF(L31,"Si l’établissement partenaire est une entreprise : dans la case Commentaires en bas de l'onglet, veuillez renseigner le(s) Work Package(s) qui est (sont) associé(s)"& "à la catégorie de recherche (Recherche fondamentale / Recherche industrielle / Développement expérimental) choisie en cellule D9","")
C12: =IF(L7, IF(L9, "Ce partenaire est finançable à coût marginal. Le taux d’aide est de 100%. Les frais généraux forfaitaires sont de "&Réglages!M16&"% maximum.", "Ce partenaire est finançable à coût complet."&" Le taux d’aide maximum dépend du type de structure, il est indiqué en bas de ce formulaire. L’aide demandée est automatiquement calculée"&" par multiplication de l’assiette totale de l’aide par le taux d’aide retenu. Les frais de structure, en deux catégories, sont à demander à la fin de ce formulaire."), "Ce partenaire n’est pas finançable : merci de sélectionner un type de partenaire ci-dessus. Si le type partenaire est déjà sélectionné, merci de remplir des apports.") -> Ce partenaire n’est pas finançable : merci de sélectionner un type de partenaire ci-dessus. Si le type partenaire est déjà sélectionné, merci de remplir des apports. | K12: frais environnement possible : | L12: =(SUMIF(Table_type_part7[Type étab partenaire],D9,Table_type_part7[frais env]))>0 -> FALSE | M12: (à régler dans la page réglage)
B13: Personne habilitée à engager juridiquement l'établissement partenaire | K13: décharges possible : | L13: =(SUMIF(Table_type_part7[Type étab partenaire],D9,Table_type_part7[Décharges]))>0 -> FALSE | M13: (à régler dans la page réglage)
C15: Genre
C16: Nom
C17: Prénom | K17: taux d’aide lié à la struture du part : | L17: =SUMIF(Table_type_part7[Type étab partenaire],D9,Table_type_part7[taux d’aide]) -> 0 | M17: (à régler dans la page réglage)
C18: Qualité | K18: taux d’aide lié à la catégorie de recherche : | L18: =Tableau6[taux] -> 1 | M18: (à régler dans la page réglage)
C19: Courriel | K19: taux d’aide applicable : | L19: =L17*L18 -> 0
C20: Téléphone
K21: Régle de couleur des cases :
B22: Correspondant du projet | K22: nom de la zone | L22: Booléen | M22: description
K23: rouge _si_cout_complet | L23: =(AND(L7,NOT(L9))) -> FALSE | M23: éligible ET non(cout marg)
B24: Nom
B25: Prénom | K25: rouge_si_cout_marginal | L25: =(OR(L9,NOT(L7))) -> TRUE | M25: cout marginal OU non eligible
B26: Courriel
B27: Téléphone | K27: rouge_si_inneligible | L27: =NOT(L7) -> TRUE
B29: Demande financière ANR du projet | K29: Etab Fonctionnaire | L29: =IF(OR(L9,L12),"VRAI","FAUX") -> FAUX
B30: Personnel
B31: Personnel avec demande de financement | E31: Coût moyen | F31: Nb. p.mois | G31: Coût total | H31: Aide demandée | I31: Apport | K31: Entreprise | L31: =(SUMIF(Réglages!E24:E26,D9,Table_type_part7[taux d’aide]))>0 -> FALSE
B32: Personnel de recherche - Fonctionnaires (voir Notice) | E32: =IF(AND(ISNUMBER(F32),ISNUMBER(G32)),G32/F32," ") | I32: =IF(OR(ISNUMBER(G32),ISNUMBER(H32)),ROUND(IF(ISNUMBER(G32),G32,0)-IF(ISNUMBER(H32),H32,0),2)," ")
B33: Personnel de recherche - Non fonctionnaires (CDI/CDD) | E33: =IF(AND(ISNUMBER(F33),ISNUMBER(G33)),G33/F33," ") | I33: =IF(OR(ISNUMBER(G33),ISNUMBER(H33)),ROUND(IF(ISNUMBER(G33),G33,0)-IF(ISNUMBER(H33),H33,0),2)," ")
B34: Doctorants | E34: =IF(AND(ISNUMBER(F34),ISNUMBER(G34)),G34/F34," ") | I34: =IF(OR(ISNUMBER(G34),ISNUMBER(H34)),ROUND(IF(ISNUMBER(G34),G34,0)-IF(ISNUMBER(H34),H34,0),2)," ")
B35: Post-doctorants | E35: =IF(AND(ISNUMBER(F35),ISNUMBER(G35)),G35/F35," ") | I35: =IF(OR(ISNUMBER(G35),ISNUMBER(H35)),ROUND(IF(ISNUMBER(G35),G35,0)-IF(ISNUMBER(H35),H35,0),2)," ")
B36: Autres (personnel support, stagiaires, vacations, etc.) | E36: =IF(AND(ISNUMBER(F36),ISNUMBER(G36)),G36/F36," ") | I36: =IF(OR(ISNUMBER(G36),ISNUMBER(H36)),ROUND(IF(ISNUMBER(G36),G36,0)-IF(ISNUMBER(H36),H36,0),2)," ")
B37: Primes | I37: =IF(OR(ISNUMBER(G37),ISNUMBER(H37)),ROUND(IF(ISNUMBER(G37),G37,0)-IF(ISNUMBER(H37),H37,0),2),"")
B38: Heures complémentaires | I38: =IF(OR(ISNUMBER(G38),ISNUMBER(H38)),ROUND(IF(ISNUMBER(G38),G38,0)-IF(ISNUMBER(H38),H38,0),2),"")
B39: Décharges d’enseignement | I39: =IF(OR(ISNUMBER(G39),ISNUMBER(H39)),ROUND(IF(ISNUMBER(G39),G39,0)-IF(ISNUMBER(H39),H39,0),2),"")
B40: Personnel sans demande de financement | E40: Coût moyen | F40: Nb. p.mois | G40: Coût total | H40: Aide demandée | I40: Apport
B41: Personnel de recherche - Fonctionnaires | D41: Enseignants-chercheurs et chercheurs | E41: =IF(AND(ISNUMBER(F41),ISNUMBER(G41)),G41/F41," ") | I41: =IF(OR(ISNUMBER(G41),ISNUMBER(H41)),ROUND(IF(ISNUMBER(G41),G41,0)-IF(ISNUMBER(H41),H41,0),2)," ")
D42: Ingénieurs et techniciens | E42: =IF(AND(ISNUMBER(F42),ISNUMBER(G42)),G42/F42," ") | I42: =IF(OR(ISNUMBER(G42),ISNUMBER(H42)),ROUND(IF(ISNUMBER(G42),G42,0)-IF(ISNUMBER(H42),H42,0),2)," ")
B43: Personnel de recherche - Non fonctionnaires (CDI/CDD) | E43: =IF(AND(ISNUMBER(F43),ISNUMBER(G43)),G43/F43," ") | I43: =IF(OR(ISNUMBER(G43),ISNUMBER(H43)),ROUND(IF(ISNUMBER(G43),G43,0)-IF(ISNUMBER(H43),H43,0),2)," ")
...

Sheet Part4
A1: Identification de l'établissement partenaire
F2: Acronyme | H2: =IF(VoletGeneral!D9<>"",VoletGeneral!D9,"")
F3: Partenaire | H3: Part4
C4: 20408 | D4: =C4&"-0" -> 20408-0
B5: Nom complet du partenaire
C7: Nom complet du partenaire | K7: eligible à l’aide : | L7: =(SUMIF(Table_type_part7[Type étab partenaire],D9,Table_type_part7[Eligible]))>0 -> FALSE | M7: (à régler dans la page réglage)
C8: Sigle du partenaire
C9: Type de partenaire | K9: éligible au cout marginal : | L9: =(SUMIF(Table_type_part7[Type étab partenaire],D9,Table_type_part7[cout marginal]))>0 -> FALSE | M9: (à régler dans la page réglage)
C10: Numéro SIRET | K10: Prise en compte des couts | L10: =IF(L7,IF(L9,"Cout marginal", "Cout complet"),"Part. non finançable") -> Part. non finançable | N10: (Eligible)
C11: =IF(L31,"Si l’établissement partenaire est une entreprise : dans la case Commentaires en bas de l'onglet, veuillez renseigner le(s) Work Package(s) qui est (sont) associé(s)"& "à la catégorie de recherche (Recherche fondamentale / Recherche industrielle / Développement expérimental) choisie en cellule D9","")
C12: =IF(L7, IF(L9, "Ce partenaire est finançable à coût marginal. Le taux d’aide est de 100%. Les frais généraux forfaitaires sont de "&Réglages!M16&"% maximum.", "Ce partenaire est finançable à coût complet."&" Le taux d’aide maximum dépend du type de structure, il est indiqué en bas de ce formulaire. L’aide demandée est automatiquement calculée"&" par multiplication de l’assiette totale de l’aide par le taux d’aide retenu. Les frais de structure, en deux catégories, sont à demander à la fin de ce formulaire."), "Ce partenaire n’est pas finançable : merci de sélectionner un type de partenaire ci-dessus. Si le type partenaire est déjà sélectionné, merci de remplir des apports.") -> Ce partenaire n’est pas finançable : merci de sélectionner un type de partenaire ci-dessus. Si le type partenaire est déjà sélectionné, merci de remplir des apports. | K12: frais environnement possible : | L12: =(SUMIF(Table_type_part7[Type étab partenaire],D9,Table_type_part7[frais env]))>0 -> FALSE | M12: (à régler dans la page réglage)
B13: Personne habilitée à engager juridiquement l'établissement partenaire | K13: décharges possible : | L13: =(SUMIF(Table_type_part7[Type étab partenaire],D9,Table_type_part7[Décharges]))>0 -> FALSE | M13: (à régler dans la page réglage)
C15: Genre
C16: Nom
C17: Prénom | K17: taux d’aide lié à la struture du part : | L17: =SUMIF(Table_type_part7[Type étab partenaire],D9,Table_type_part7[taux d’aide]) -> 0 | M17: (à régler dans la page réglage)
C18: Qualité | K18: taux d’aide lié à la catégorie de recherche : | L18: =Tableau6[taux] -> 1 | M18: (à régler dans la page réglage)
C19: Courriel | K19: taux d’aide applicable : | L19: =L17*L18 -> 0
C20: Téléphone
K21: Régle de couleur des cases :
B22: Correspondant du projet | K22: nom de la zone | L22: Booléen | M22: description
K23: rouge _si_cout_complet | L23: =(AND(L7,NOT(L9))) -> FALSE | M23: éligible ET non(cout marg)
B24: Nom
B25: Prénom | K25: rouge_si_cout_marginal | L25: =(OR(L9,NOT(L7))) -> TRUE | M25: cout marginal OU non eligible
B26: Courriel
B27: Téléphone | K27: rouge_si_inneligible | L27: =NOT(L7) -> TRUE
B29: Demande financière ANR du projet | K29: Etab Fonctionnaire | L29: =IF(OR(L9,L12),"VRAI","FAUX") -> FAUX
B30: Personnel
B31: Personnel avec demande de financement | E31: Coût moyen | F31: Nb. p.mois | G31: Coût total | H31: Aide demandée | I31: Apport | K31: Entreprise | L31: =(SUMIF(Réglages!E24:E26,D9,Table_type_part7[taux d’aide]))>0 -> FALSE
B32: Personnel de recherche - Fonctionnaires (voir Notice) | E32: =IF(AND(ISNUMBER(F32),ISNUMBER(G32)),G32/F32," ") | I32: =IF(OR(ISNUMBER(G32),ISNUMBER(H32)),ROUND(IF(ISNUMBER(G32),G32,0)-IF(ISNUMBER(H32),H32,0),2)," ")
B33: Personnel de recherche - Non fonctionnaires (CDI/CDD) | E33: =IF(AND(ISNUMBER(F33),ISNUMBER(G33)),G33/F33," ") | I33: =IF(OR(ISNUMBER(G33),ISNUMBER(H33)),ROUND(IF(ISNUMBER(G33),G33,0)-IF(ISNUMBER(H33),H33,0),2)," ")
B34: Doctorants | E34: =IF(AND(ISNUMBER(F34),ISNUMBER(G34)),G34/F34," ") | I34: =IF(OR(ISNUMBER(G34),ISNUMBER(H34)),ROUND(IF(ISNUMBER(G34),G34,0)-IF(ISNUMBER(H34),H34,0),2)," ")
B35: Post-doctorants | E35: =IF(AND(ISNUMBER(F35),ISNUMBER(G35)),G35/F35," ") | I35: =IF(OR(ISNUMBER(G35),ISNUMBER(H35)),ROUND(IF(ISNUMBER(G35),G35,0)-IF(ISNUMBER(H35),H35,0),2)," ")
B36: Autres (personnel support, stagiaires, vacations, etc.) | E36: =IF(AND(ISNUMBER(F36),ISNUMBER(G36)),G36/F36," ") | I36: =IF(OR(ISNUMBER(G36),ISNUMBER(H36)),ROUND(IF(ISNUMBER(G36),G36,0)-IF(ISNUMBER(H36),H36,0),2)," ")
B37: Primes | I37: =IF(OR(ISNUMBER(G37),ISNUMBER(H37)),ROUND(IF(ISNUMBER(G37),G37,0)-IF(ISNUMBER(H37),H37,0),2),"")
B38: Heures complémentaires | I38: =IF(OR(ISNUMBER(G38),ISNUMBER(H38)),ROUND(IF(ISNUMBER(G38),G38,0)-IF(ISNUMBER(H38),H38,0),2),"")
B39: Décharges d’enseignement | I39: =IF(OR(ISNUMBER(G39),ISNUMBER(H39)),ROUND(IF(ISNUMBER(G39),G39,0)-IF(ISNUMBER(H39),H39,0),2),"")
B40: Personnel sans demande de financement | E40: Coût moyen | F40: Nb. p.mois | G40: Coût total | H40: Aide demandée | I40: Apport
B41: Personnel de recherche - Fonctionnaires | D41: Enseignants-chercheurs et chercheurs | E41: =IF(AND(ISNUMBER(F41),ISNUMBER(G41)),G41/F41," ") | I41: =IF(OR(ISNUMBER(G41),ISNUMBER(H41)),ROUND(IF(ISNUMBER(G41),G41,0)-IF(ISNUMBER(H41),H41,0),2)," ")
D42: Ingénieurs et techniciens | E42: =IF(AND(ISNUMBER(F42),ISNUMBER(G42)),G42/F42," ") | I42: =IF(OR(ISNUMBER(G42),ISNUMBER(H42)),ROUND(IF(ISNUMBER(G42),G42,0)-IF(ISNUMBER(H42),H42,0),2)," ")
B43: Personnel de recherche - Non fonctionnaires (CDI/CDD) | E43: =IF(AND(ISNUMBER(F43),ISNUMBER(G43)),G43/F43," ") | I43: =IF(OR(ISNUMBER(G43),ISNUMBER(H43)),ROUND(IF(ISNUMBER(G43),G43,0)-IF(ISNUMBER(H43),H43,0),2)," ")
...

Sheet Part5
A1: Identification de l'établissement partenaire
F2: Acronyme | H2: =IF(VoletGeneral!D9<>"",VoletGeneral!D9,"")
F3: Partenaire | H3: Part5
C4: 20408 | D4: =C4&"-0" -> 20408-0
B5: Nom complet du partenaire
C7: Nom complet du partenaire | K7: eligible à l’aide : | L7: =(SUMIF(Table_type_part7[Type étab partenaire],D9,Table_type_part7[Eligible]))>0 -> FALSE | M7: (à régler dans la page réglage)
C8: Sigle du partenaire
C9: Type de partenaire | K9: éligible au cout marginal : | L9: =(SUMIF(Table_type_part7[Type étab partenaire],D9,Table_type_part7[cout marginal]))>0 -> FALSE | M9: (à régler dans la page réglage)
C10: Numéro SIRET | K10: Prise en compte des couts | L10: =IF(L7,IF(L9,"Cout marginal", "Cout complet"),"Part. non finançable") -> Part. non finançable | N10: (Eligible)
C11: =IF(L31,"Si l’établissement partenaire est une entreprise : dans la case Commentaires en bas de l'onglet, veuillez renseigner le(s) Work Package(s) qui est (sont) associé(s)"& "à la catégorie de recherche (Recherche fondamentale / Recherche industrielle / Développement expérimental) choisie en cellule D9","")
C12: =IF(L7, IF(L9, "Ce partenaire est finançable à coût marginal. Le taux d’aide est de 100%. Les frais généraux forfaitaires sont de "&Réglages!M16&"% maximum.", "Ce partenaire est finançable à coût complet."&" Le taux d’aide maximum dépend du type de structure, il est indiqué en bas de ce formulaire. L’aide demandée est automatiquement calculée"&" par multiplication de l’assiette totale de l’aide par le taux d’aide retenu. Les frais de structure, en deux catégories, sont à demander à la fin de ce formulaire."), "Ce partenaire n’est pas finançable : merci de sélectionner un type de partenaire ci-dessus. Si le type partenaire est déjà sélectionné, merci de remplir des apports.") -> Ce partenaire n’est pas finançable : merci de sélectionner un type de partenaire ci-dessus. Si le type partenaire est déjà sélectionné, merci de remplir des apports. | K12: frais environnement possible : | L12: =(SUMIF(Table_type_part7[Type étab partenaire],D9,Table_type_part7[frais env]))>0 -> FALSE | M12: (à régler dans la page réglage)
B13: Personne habilitée à engager juridiquement l'établissement partenaire | K13: décharges possible : | L13: =(SUMIF(Table_type_part7[Type étab partenaire],D9,Table_type_part7[Décharges]))>0 -> FALSE | M13: (à régler dans la page réglage)
C15: Genre
C16: Nom
C17: Prénom | K17: taux d’aide lié à la struture du part : | L17: =SUMIF(Table_type_part7[Type étab partenaire],D9,Table_type_part7[taux d’aide]) -> 0 | M17: (à régler dans la page réglage)
C18: Qualité | K18: taux d’aide lié à la catégorie de recherche : | L18: =Tableau6[taux] -> 1 | M18: (à régler dans la page réglage)
C19: Courriel | K19: taux d’aide applicable : | L19: =L17*L18 -> 0
C20: Téléphone
K21: Régle de couleur des cases :
B22: Correspondant du projet | K22: nom de la zone | L22: Booléen | M22: description
K23: rouge _si_cout_complet | L23: =(AND(L7,NOT(L9))) -> FALSE | M23: éligible ET non(cout marg)
B24: Nom
B25: Prénom | K25: rouge_si_cout_marginal | L25: =(OR(L9,NOT(L7))) -> TRUE | M25: cout marginal OU non eligible
B26: Courriel
B27: Téléphone | K27: rouge_si_inneligible | L27: =NOT(L7) -> TRUE
B29: Demande financière ANR du projet | K29: Etab Fonctionnaire | L29: =IF(OR(L9,L12),"VRAI","FAUX") -> FAUX
B30: Personnel
B31: Personnel avec demande de financement | E31: Coût moyen | F31: Nb. p.mois | G31: Coût total | H31: Aide demandée | I31: Apport | K31: Entreprise | L31: =(SUMIF(Réglages!E24:E26,D9,Table_type_part7[taux d’aide]))>0 -> FALSE
B32: Personnel de recherche - Fonctionnaires (voir Notice) | E32: =IF(AND(ISNUMBER(F32),ISNUMBER(G32)),G32/F32," ") | I32: =IF(OR(ISNUMBER(G32),ISNUMBER(H32)),ROUND(IF(ISNUMBER(G32),G32,0)-IF(ISNUMBER(H32),H32,0),2)," ")
B33: Personnel de recherche - Non fonctionnaires (CDI/CDD) | E33: =IF(AND(ISNUMBER(F33),ISNUMBER(G33)),G33/F33," ") | I33: =IF(OR(ISNUMBER(G33),ISNUMBER(H33)),ROUND(IF(ISNUMBER(G33),G33,0)-IF(ISNUMBER(H33),H33,0),2)," ")
B34: Doctorants | E34: =IF(AND(ISNUMBER(F34),ISNUMBER(G34)),G34/F34," ") | I34: =IF(OR(ISNUMBER(G34),ISNUMBER(H34)),ROUND(IF(ISNUMBER(G34),G34,0)-IF(ISNUMBER(H34),H34,0),2)," ")
B35: Post-doctorants | E35: =IF(AND(ISNUMBER(F35),ISNUMBER(G35)),G35/F35," ") | I35: =IF(OR(ISNUMBER(G35),ISNUMBER(H35)),ROUND(IF(ISNUMBER(G35),G35,0)-IF(ISNUMBER(H35),H35,0),2)," ")
B36: Autres (personnel support, stagiaires, vacations, etc.) | E36: =IF(AND(ISNUMBER(F36),ISNUMBER(G36)),G36/F36," ") | I36: =IF(OR(ISNUMBER(G36),ISNUMBER(H36)),ROUND(IF(ISNUMBER(G36),G36,0)-IF(ISNUMBER(H36),H36,0),2)," ")
B37: Primes | I37: =IF(OR(ISNUMBER(G37),ISNUMBER(H37)),ROUND(IF(ISNUMBER(G37),G37,0)-IF(ISNUMBER(H37),H37,0),2),"")
B38: Heures complémentaires | I38: =IF(OR(ISNUMBER(G38),ISNUMBER(H38)),ROUND(IF(ISNUMBER(G38),G38,0)-IF(ISNUMBER(H38),H38,0),2),"")
B39: Décharges d’enseignement | I39: =IF(OR(ISNUMBER(G39),ISNUMBER(H39)),ROUND(IF(ISNUMBER(G39),G39,0)-IF(ISNUMBER(H39),H39,0),2),"")
B40: Personnel sans demande de financement | E40: Coût moyen | F40: Nb. p.mois | G40: Coût total | H40: Aide demandée | I40: Apport
B41: Personnel de recherche - Fonctionnaires | D41: Enseignants-chercheurs et chercheurs | E41: =IF(AND(ISNUMBER(F41),ISNUMBER(G41)),G41/F41," ") | I41: =IF(OR(ISNUMBER(G41),ISNUMBER(H41)),ROUND(IF(ISNUMBER(G41),G41,0)-IF(ISNUMBER(H41),H41,0),2)," ")
D42: Ingénieurs et techniciens | E42: =IF(AND(ISNUMBER(F42),ISNUMBER(G42)),G42/F42," ") | I42: =IF(OR(ISNUMBER(G42),ISNUMBER(H42)),ROUND(IF(ISNUMBER(G42),G42,0)-IF(ISNUMBER(H42),H42,0),2)," ")
B43: Personnel de recherche - Non fonctionnaires (CDI/CDD) | E43: =IF(AND(ISNUMBER(F43),ISNUMBER(G43)),G43/F43," ") | I43: =IF(OR(ISNUMBER(G43),ISNUMBER(H43)),ROUND(IF(ISNUMBER(G43),G43,0)-IF(ISNUMBER(H43),H43,0),2)," ")
...

Sheet Part6
A1: Identification de l'établissement partenaire
F2: Acronyme | H2: =IF(VoletGeneral!D9<>"",VoletGeneral!D9,"")
F3: Partenaire | H3: Part6
C4: 20408 | D4: =C4&"-0" -> 20408-0
B5: Nom complet du partenaire
C7: Nom complet du partenaire | K7: eligible à l’aide : | L7: =(SUMIF(Table_type_part7[Type étab partenaire],D9,Table_type_part7[Eligible]))>0 -> FALSE | M7: (à régler dans la page réglage)
C8: Sigle du partenaire
C9: Type de partenaire | K9: éligible au cout marginal : | L9: =(SUMIF(Table_type_part7[Type étab partenaire],D9,Table_type_part7[cout marginal]))>0 -> FALSE | M9: (à régler dans la page réglage)
C10: Numéro SIRET | K10: Prise en compte des couts | L10: =IF(L7,IF(L9,"Cout marginal", "Cout complet"),"Part. non finançable") -> Part. non finançable | N10: (Eligible)
C11: =IF(L31,"Si l’établissement partenaire est une entreprise : dans la case Commentaires en bas de l'onglet, veuillez renseigner le(s) Work Package(s) qui est (sont) associé(s)"& "à la catégorie de recherche (Recherche fondamentale / Recherche industrielle / Développement expérimental) choisie en cellule D9","")
C12: =IF(L7, IF(L9, "Ce partenaire est finançable à coût marginal. Le taux d’aide est de 100%. Les frais généraux forfaitaires sont de "&Réglages!M16&"% maximum.", "Ce partenaire est finançable à coût complet."&" Le taux d’aide maximum dépend du type de structure, il est indiqué en bas de ce formulaire. L’aide demandée est automatiquement calculée"&" par multiplication de l’assiette totale de l’aide par le taux d’aide retenu. Les frais de structure, en deux catégories, sont à demander à la fin de ce formulaire."), "Ce partenaire n’est pas finançable : merci de sélectionner un type de partenaire ci-dessus. Si le type partenaire est déjà sélectionné, merci de remplir des apports.") -> Ce partenaire n’est pas finançable : merci de sélectionner un type de partenaire ci-dessus. Si le type partenaire est déjà sélectionné, merci de remplir des apports. | K12: frais environnement possible : | L12: =(SUMIF(Table_type_part7[Type étab partenaire],D9,Table_type_part7[frais env]))>0 -> FALSE | M12: (à régler dans la page réglage)
B13: Personne habilitée à engager juridiquement l'établissement partenaire | K13: décharges possible : | L13: =(SUMIF(Table_type_part7[Type étab partenaire],D9,Table_type_part7[Décharges]))>0 -> FALSE | M13: (à régler dans la page réglage)
C15: Genre
C16: Nom
C17: Prénom | K17: taux d’aide lié à la struture du part : | L17: =SUMIF(Table_type_part7[Type étab partenaire],D9,Table_type_part7[taux d’aide]) -> 0 | M17: (à régler dans la page réglage)
C18: Qualité | K18: taux d’aide lié à la catégorie de recherche : | L18: =Tableau6[taux] -> 1 | M18: (à régler dans la page réglage)
C19: Courriel | K19: taux d’aide applicable : | L19: =L17*L18 -> 0
C20: Téléphone
K21: Régle de couleur des cases :
B22: Correspondant du projet | K22: nom de la zone | L22: Booléen | M22: description
K23: rouge _si_cout_complet | L23: =(AND(L7,NOT(L9))) -> FALSE | M23: éligible ET non(cout marg)
B24: Nom
B25: Prénom | K25: rouge_si_cout_marginal | L25: =(OR(L9,NOT(L7))) -> TRUE | M25: cout marginal OU non eligible
B26: Courriel
B27: Téléphone | K27: rouge_si_inneligible | L27: =NOT(L7) -> TRUE
B29: Demande financière ANR du projet | K29: Etab Fonctionnaire | L29: =IF(OR(L9,L12),"VRAI","FAUX") -> FAUX
B30: Personnel
B31: Personnel avec demande de financement | E31: Coût moyen | F31: Nb. p.mois | G31: Coût total | H31: Aide demandée | I31: Apport | K31: Entreprise | L31: =(SUMIF(Réglages!E24:E26,D9,Table_type_part7[taux d’aide]))>0 -> FALSE
B32: Personnel de recherche - Fonctionnaires (voir Notice) | E32: =IF(AND(ISNUMBER(F32),ISNUMBER(G32)),G32/F32," ") | I32: =IF(OR(ISNUMBER(G32),ISNUMBER(H32)),ROUND(IF(ISNUMBER(G32),G32,0)-IF(ISNUMBER(H32),H32,0),2)," ")
B33: Personnel de recherche - Non fonctionnaires (CDI/CDD) | E33: =IF(AND(ISNUMBER(F33),ISNUMBER(G33)),G33/F33," ") | I33: =IF(OR(ISNUMBER(G33),ISNUMBER(H33)),ROUND(IF(ISNUMBER(G33),G33,0)-IF(ISNUMBER(H33),H33,0),2)," ")
B34: Doctorants | E34: =IF(AND(ISNUMBER(F34),ISNUMBER(G34)),G34/F34," ") | I34: =IF(OR(ISNUMBER(G34),ISNUMBER(H34)),ROUND(IF(ISNUMBER(G34),G34,0)-IF(ISNUMBER(H34),H34,0),2)," ")
B35: Post-doctorants | E35: =IF(AND(ISNUMBER(F35),ISNUMBER(G35)),G35/F35," ") | I35: =IF(OR(ISNUMBER(G35),ISNUMBER(H35)),ROUND(IF(ISNUMBER(G35),G35,0)-IF(ISNUMBER(H35),H35,0),2)," ")
B36: Autres (personnel support, stagiaires, vacations, etc.) | E36: =IF(AND(ISNUMBER(F36),ISNUMBER(G36)),G36/F36," ") | I36: =IF(OR(ISNUMBER(G36),ISNUMBER(H36)),ROUND(IF(ISNUMBER(G36),G36,0)-IF(ISNUMBER(H36),H36,0),2)," ")
B37: Primes | I37: =IF(OR(ISNUMBER(G37),ISNUMBER(H37)),ROUND(IF(ISNUMBER(G37),G37,0)-IF(ISNUMBER(H37),H37,0),2),"")
B38: Heures complémentaires | I38: =IF(OR(ISNUMBER(G38),ISNUMBER(H38)),ROUND(IF(ISNUMBER(G38),G38,0)-IF(ISNUMBER(H38),H38,0),2),"")
B39: Décharges d’enseignement | I39: =IF(OR(ISNUMBER(G39),ISNUMBER(H39)),ROUND(IF(ISNUMBER(G39),G39,0)-IF(ISNUMBER(H39),H39,0),2),"")
B40: Personnel sans demande de financement | E40: Coût moyen | F40: Nb. p.mois | G40: Coût total | H40: Aide demandée | I40: Apport
B41: Personnel de recherche - Fonctionnaires | D41: Enseignants-chercheurs et chercheurs | E41: =IF(AND(ISNUMBER(F41),ISNUMBER(G41)),G41/F41," ") | I41: =IF(OR(ISNUMBER(G41),ISNUMBER(H41)),ROUND(IF(ISNUMBER(G41),G41,0)-IF(ISNUMBER(H41),H41,0),2)," ")
D42: Ingénieurs et techniciens | E42: =IF(AND(ISNUMBER(F42),ISNUMBER(G42)),G42/F42," ") | I42: =IF(OR(ISNUMBER(G42),ISNUMBER(H42)),ROUND(IF(ISNUMBER(G42),G42,0)-IF(ISNUMBER(H42),H42,0),2)," ")
B43: Personnel de recherche - Non fonctionnaires (CDI/CDD) | E43: =IF(AND(ISNUMBER(F43),ISNUMBER(G43)),G43/F43," ") | I43: =IF(OR(ISNUMBER(G43),ISNUMBER(H43)),ROUND(IF(ISNUMBER(G43),G43,0)-IF(ISNUMBER(H43),H43,0),2)," ")
...

Sheet Part7
A1: Identification de l'établissement partenaire
F2: Acronyme | H2: =IF(VoletGeneral!D9<>"",VoletGeneral!D9,"")
F3: Partenaire | H3: Part7
C4: 20408 | D4: =C4&"-0" -> 20408-0
B5: Nom complet du partenaire
C7: Nom complet du partenaire | K7: eligible à l’aide : | L7: =(SUMIF(Table_type_part7[Type étab partenaire],D9,Table_type_part7[Eligible]))>0 -> FALSE | M7: (à régler dans la page réglage)
C8: Sigle du partenaire
C9: Type de partenaire | K9: éligible au cout marginal : | L9: =(SUMIF(Table_type_part7[Type étab partenaire],D9,Table_type_part7[cout marginal]))>0 -> FALSE | M9: (à régler dans la page réglage)
C10: Numéro SIRET | K10: Prise en compte des couts | L10: =IF(L7,IF(L9,"Cout marginal", "Cout complet"),"Part. non finançable") -> Part. non finançable | N10: (Eligible)
C11: =IF(L31,"Si l’établissement partenaire est une entreprise : dans la case Commentaires en bas de l'onglet, veuillez renseigner le(s) Work Package(s) qui est (sont) associé(s)"& "à la catégorie de recherche (Recherche fondamentale / Recherche industrielle / Développement expérimental) choisie en cellule D9","")
C12: =IF(L7, IF(L9, "Ce partenaire est finançable à coût marginal. Le taux d’aide est de 100%. Les frais généraux forfaitaires sont de "&Réglages!M16&"% maximum.", "Ce partenaire est finançable à coût complet."&" Le taux d’aide maximum dépend du type de structure, il est indiqué en bas de ce formulaire. L’aide demandée est automatiquement calculée"&" par multiplication de l’assiette totale de l’aide par le taux d’aide retenu. Les frais de structure, en deux catégories, sont à demander à la fin de ce formulaire."), "Ce partenaire n’est pas finançable : merci de sélectionner un type de partenaire ci-dessus. Si le type partenaire est déjà sélectionné, merci de remplir des apports.") -> Ce partenaire n’est pas finançable : merci de sélectionner un type de partenaire ci-dessus. Si le type partenaire est déjà sélectionné, merci de remplir des apports. | K12: frais environnement possible : | L12: =(SUMIF(Table_type_part7[Type étab partenaire],D9,Table_type_part7[frais env]))>0 -> FALSE | M12: (à régler dans la page réglage)
B13: Personne habilitée à engager juridiquement l'établissement partenaire | K13: décharges possible : | L13: =(SUMIF(Table_type_part7[Type étab partenaire],D9,Table_type_part7[Décharges]))>0 -> FALSE | M13: (à régler dans la page réglage)
C15: Genre
C16: Nom
C17: Prénom | K17: taux d’aide lié à la struture du part : | L17: =SUMIF(Table_type_part7[Type étab partenaire],D9,Table_type_part7[taux d’aide]) -> 0 | M17: (à régler dans la page réglage)
C18: Qualité | K18: taux d’aide lié à la catégorie de recherche : | L18: =Tableau6[taux] -> 1 | M18: (à régler dans la page réglage)
C19: Courriel | K19: taux d’aide applicable : | L19: =L17*L18 -> 0
C20: Téléphone
K21: Régle de couleur des cases :
B22: Correspondant du projet | K22: nom de la zone | L22: Booléen | M22: description
K23: rouge _si_cout_complet | L23: =(AND(L7,NOT(L9))) -> FALSE | M23: éligible ET non(cout marg)
B24: Nom
B25: Prénom | K25: rouge_si_cout_marginal | L25: =(OR(L9,NOT(L7))) -> TRUE | M25: cout marginal OU non eligible
B26: Courriel
B27: Téléphone | K27: rouge_si_inneligible | L27: =NOT(L7) -> TRUE
B29: Demande financière ANR du projet | K29: Etab Fonctionnaire | L29: =IF(OR(L9,L12),"VRAI","FAUX") -> FAUX
B30: Personnel
